BEGIN:VCALENDAR
VERSION:2.0
PRODID:-//wp-events-plugin.com//7.2.3.1//EN
TZID:America/New_York
X-WR-TIMEZONE:America/New_York
BEGIN:VEVENT
UID:2339@brewsterchamber.com
DTSTART;TZID=America/New_York:20241205T120000
DTEND;TZID=America/New_York:20241205T140000
DTSTAMP:20241106T203305Z
URL:https://brewsterchamber.com/events/next-level-leaders-luncheon/
SUMMARY:Next Level Leaders Luncheon
DESCRIPTION:Join us for the Next Level Leaders Luncheon on December 5th at 
 Lakeview Manor!\n\nThis is a fantastic opportunity to connect with fellow 
 business leaders and celebrate our community's achievements over a delicio
 us meal catered by Aversano's.\n\nNominations for outstanding Brewster bus
 iness leaders are open\, so let’s recognize those who make a difference!
 \n\nNominate using this link: https://docs.google.com/forms/d/e/1FAIpQLSfL
 XAZEAeSF3axN5BJVmV-w7gLZ5HRXnm_fwqxJvuy0e2PXRA/viewform\nTickets and Spons
 orships Available HERE
ATTACH;FMTTYPE=image/jpeg:https://i0.wp.com/brewsterchamber.com/wp-content
 /uploads/2024/10/Gala-2024-square.png?fit=1080%2C1080&ssl=1
CATEGORIES:Chamber Events,Community Events
LOCATION:\, \, 
X-APPLE-STRUCTURED-LOCATION;VALUE=URI;X-ADDRESS=\, ;X-APPLE-RADIUS=100;X-TI
 TLE=:geo:0,0
END:VEVENT
BEGIN:VTIMEZONE
TZID:America/New_York
X-LIC-LOCATION:America/New_York
BEGIN:STANDARD
DTSTART:20241103T010000
TZOFFSETFROM:-0400
TZOFFSETTO:-0500
TZNAME:EST
END:STANDARD
END:VTIMEZONE
END:VCALENDAR