BEGIN:VCALENDAR
VERSION:2.0
PRODID:-//wp-events-plugin.com//7.2.3.1//EN
TZID:America/New_York
X-WR-TIMEZONE:America/New_York
BEGIN:VEVENT
UID:2372@brewsterchamber.com
DTSTART;TZID=America/New_York:20260129T173000
DTEND;TZID=America/New_York:20260129T190000
DTSTAMP:20260112T213321Z
URL:https://brewsterchamber.com/events/hudson-valley-hispanic-business-cou
 ncil-networking/
SUMMARY:January Member Meeting hosted by the Hudson Valley Hispanic Busines
 s Council
DESCRIPTION:January Member meeting /Enero Reunión de miembros\n\nJoin us
  to kickoff the year! Hosted by our NEW Hudson Valley Hispanic Business C
 ouncil. It will be a night of networking\, making connections\, and growin
 g business.\n\nÚnete a nosotros para dar inicio al año! Organizado por n
 uestro NUEVO Consejo de Negocios Hispanos de Hudson Valley. Será una noc
 he para establecer contactos\, crear relaciones y hacer crecer los negocio
 s.\n\nALL Members and prospective members are welcome! ¡Todos los miembro
 s y futuros miembros son bienvenidos!\n\nThursday/Jueves\, 1/29/2026\n5:30
 - 7:30 PM | Six Diamonds Tree Services\n118 Route 22\, Pawling\n$20 PP (In
 cludes Food\, Beverages\, &amp\; Networking!)\n\nSpecial thanks to Food Sp
 onsor Mima’s Pizza &amp\; Pasta and to Six Diamonds Tree Services for pr
 oviding the space.\n\nDetails on Brewster Chamber's Partiful. (Follow us a
 nd to stay up-to-date on our events\, get event reminders\, but NO spam!)\
 nGet tickets here.
ATTACH;FMTTYPE=image/jpeg:https://i0.wp.com/brewsterchamber.com/wp-content
 /uploads/2025/12/BCOC-January-Member-Meeting-Flyer-EnglishSpanish.png?fit=
 1545%2C1999&ssl=1
CATEGORIES:All Events,Chamber Events,Community Events
LOCATION:Six Diamonds Tree Services\, 118 Route 22\, Pawling\, NY\, 12564\,
  United States
X-APPLE-STRUCTURED-LOCATION;VALUE=URI;X-ADDRESS=118 Route 22\, Pawling\, NY
 \, 12564\, United States;X-APPLE-RADIUS=100;X-TITLE=Six Diamonds Tree Serv
 ices:geo:0,0
END:VEVENT
BEGIN:VTIMEZONE
TZID:America/New_York
X-LIC-LOCATION:America/New_York
BEGIN:STANDARD
DTSTART:20251102T010000
TZOFFSETFROM:-0400
TZOFFSETTO:-0500
TZNAME:EST
END:STANDARD
END:VTIMEZONE
END:VCALENDAR